BEGIN:VCALENDAR
VERSION:2.0
PRODID:-//ChamberMaster//Event Calendar 2.0//EN
METHOD:PUBLISH
X-PUBLISHED-TTL:P3D
REFRESH-INTERVAL:P3D
CALSCALE:GREGORIAN
BEGIN:VEVENT
DTSTART;VALUE=DATE:20211001
DTEND;VALUE=DATE:20211004
TRANSP:TRANSPARENT
X-MICROSOFT-CDO-ALLDAYEVENT:TRUE
SUMMARY:Jefferson City-Wide Rummage Sale 2021
DESCRIPTION:Jefferson Citywide Rummage Sale\n\nOctober 1-3\, 2021\n\n\nSHOPPERS\n\nThe Rummage Sale listings will be published in the Daily Union on September 30 & October 1.\n\n\n\n\n\nSELLERS\n\nDrop off or mail registration form and $20 fee to the Daily Union by Friday\, September 24.\n\n\n\nYour rummage sale ad will be published in the Daily Union the Thursday & Friday prior to the sale\, on Sept 30 & Oct 1.\n\n \nDownload the registration form here: Jefferson Fall Citywide\n\nReturn to:\n\nDaily Union\n\n101 Grant St.\n\nFort Atkinson\, WI  53538
X-ALT-DESC;FMTTYPE=text/html:<h3 style="box-sizing: inherit\; margin: 1em 0px 0.5em\; padding: 0px\; border: 0px\; font-variant-numeric: inherit\; font-variant-east-asian: inherit\; font-weight: 700\; font-stretch: inherit\; font-size: 1.79em\; font-family: Oswald\; clear: both\; color: rgb(22\, 37\, 33)\;"><span style="color:#000000\;"><span style="font-family:arial\;"><span style="font-size:22px\;">Jefferson Citywide Rummage Sale</span></span></span></h3>\n\n<h6 style="box-sizing: inherit\; margin: 1em 0px 0.5em\; padding: 0px\; border: 0px\; font-variant-numeric: inherit\; font-variant-east-asian: inherit\; font-weight: bold\; font-stretch: inherit\; font-size: 0.98em\; font-family: Oswald\; clear: both\; text-transform: uppercase\; color: rgb(22\, 37\, 33)\;"><span style="color:#000000\;"><span style="font-family:arial\;"><span style="font-size:18px\;">October 1-3\, 2021</span></span></span></h6>\n<br />\n<span style="color:#000000\;"><span style="font-family:arial\;"><span style="font-size:18px\;"><u><strong>SHOPPERS</strong></u><br />\nThe Rummage Sale listings will be published in the Daily Union on September 30 &amp\; October 1.<br />\n<br />\n<br />\n<u><strong>SELLERS</strong></u><br />\nDrop off or mail registration form and $20 fee to the Daily Union by <u>Friday\, September 24</u>.<br />\n<br />\nYour rummage sale ad will be published in the Daily Union the Thursday &amp\; Friday prior to the sale\, on Sept 30 &amp\; Oct 1.</span></span></span><br />\n&nbsp\;\n<p style="box-sizing: inherit\; margin: 0px 0px 10px\; padding: 0px\; border: 0px\; font-variant-numeric: inherit\; font-variant-east-asian: inherit\; font-stretch: inherit\; font-size: 17px\; line-height: 1.7\; font-family: &quot\;System Fonts&quot\;\, -apple-system\, BlinkMacSystemFont\, &quot\;Segoe UI&quot\;\, Roboto\, Oxygen-Sans\, Ubuntu\, Cantarell\, &quot\;Helvetica Neue&quot\;\, sans-serif\; color: rgb(102\, 102\, 102)\;"><span style="font-size:18px\;"><span style="color:#000000\;"><span style="font-family:arial\;">Download the registration form here:&nbsp\;</span></span><a href="https://bloximages.newyork1.vip.townnews.com/dailyunion.com/content/tncms/assets/v3/classifieds/2/a6/2a67bcde-003f-11ec-8943-4f3fd3e5c726/611d319056eed.pdf.pdf"><span style="color:#0000FF\;">Jefferson Fall Citywide</span></a></span><br />\n<span style="color: rgb(0\, 0\, 0)\; font-family: arial\; font-size: 18px\;">Return to:</span><br style="color: rgb(0\, 0\, 0)\; font-family: arial\; font-size: 18px\;" />\n<span style="color: rgb(0\, 0\, 0)\; font-family: arial\; font-size: 18px\;">Daily Union</span><br style="color: rgb(0\, 0\, 0)\; font-family: arial\; font-size: 18px\;" />\n<span style="color: rgb(0\, 0\, 0)\; font-family: arial\; font-size: 18px\;">101 Grant St.</span><br style="color: rgb(0\, 0\, 0)\; font-family: arial\; font-size: 18px\;" />\n<span style="color: rgb(0\, 0\, 0)\; font-family: arial\; font-size: 18px\;">Fort Atkinson\, WI&nbsp\; 53538</span></p>\n
LOCATION:Jefferson\, WI
UID:e.2671.4249
SEQUENCE:3
DTSTAMP:20260424T134915Z
URL:https://business.jeffersonchamberwi.com/events/details/jefferson-city-wide-rummage-sale-2021-10-01-2021-4249
END:VEVENT

END:VCALENDAR
