BEGIN:VCALENDAR
VERSION:2.0
PRODID:-//ChamberMaster//Event Calendar 2.0//EN
METHOD:PUBLISH
X-PUBLISHED-TTL:P3D
REFRESH-INTERVAL:P3D
CALSCALE:GREGORIAN
BEGIN:VEVENT
DTSTART:20210902T210000Z
DTEND:20210902T230000Z
X-MICROSOFT-CDO-ALLDAYEVENT:FALSE
SUMMARY:Jefferson County Appliance & Electronic Recycling Event 2021
DESCRIPTION:Do you have unwanted appliances/electronics or hazardous household waste to get rid of? Bring it to one of Jefferson County's recycling events! \n\n\n\nCertain fees apply to TVs and monitors (cash only)-- other items free to recycle!\n\n\n\nAppliances and Lawn Equipment: Air conditioners\, commercial A/C units\, dryers\, furnaces\, microwaves\, snow blowers*\, wall ovens\, water heaters\, boilers\, dehumidifiers\, exercise equipment\, grills (no propane tanks accepted)\, range tops\, stoves\, washers\, car batteries\, dishwashers\, freezers\, lawn mowers*\, refrigerators\, vending machines\, water coolers\n\n\n\n* All has and oils must be removed prior to drop-off\n\n\n\nElectronics: All computers (laptops\, servers\, computer parts\, wiring\, printers & copiers)\, CRT TVs*\, LCD TVs*\, cell phones\, VCRs\, tablets\, video game consoles\, blu-ray players\, LED TVs*\, console TVs*\, fax machines\, DVRs\, cameras\, video equipment\, routers/modems\, LCD monitors*\, CRT monitors*\, UPS devices\, iPods/iPads\, keyboards\, receivers\, storage devices\, projection TVs*\, mice\, DVD players\, MP3s\, phones\, digital devices\, radios\n\n\n\n** All CRT/LCD monitors $10.00 each\n\n** All CRT/Console/Projection/LCD/LED TVs $35.00 each\n\n\n\nItems NOT accepted: Ink/toner cartridges\, smoke/carbon monoxide detectors\, fire extinguishers\, medical equipment\, water softeners\, household batteries\, light bulbs\, de-manufactured units (Tvs/monitors broken or in pieces) or CDs/Cassette tapes/DVDs.\n\n\n\nPayment made with CASH ONLY! No credit/debit cards\, checks accepted. All other listed appliances\, electronics and lawn equipment will be FREE!\n\n	Have smaller items gathered a cardboard box or a box you do not need back for easy unloading\n	Have all items in the trunk of their car or truck bed to limit contact\n	Remain in their car during unloading\n	If payment is required\, please wear a mask and have exact cash amount\, if possible\n\nFor questions about recycling or the event please contact: Refrigerant Depot at (414) 627-1152.
X-ALT-DESC;FMTTYPE=text/html:Do you have unwanted appliances/electronics or hazardous household waste to get rid of? Bring it to one of Jefferson County&#39\;s recycling events!&nbsp\;<br />\n<br />\nCertain fees apply to TVs and monitors (cash only)-- other items free to recycle!<br />\n<br />\nAppliances and Lawn Equipment: Air conditioners\, commercial A/C units\, dryers\, furnaces\, microwaves\, snow blowers*\, wall ovens\, water heaters\, boilers\, dehumidifiers\, exercise equipment\, grills (no propane tanks accepted)\, range tops\, stoves\, washers\, car batteries\, dishwashers\, freezers\, lawn mowers*\, refrigerators\, vending machines\, water coolers<br />\n<br />\n* All has and oils must be removed prior to drop-off<br />\n<br />\nElectronics: All computers (laptops\, servers\, computer parts\, wiring\, printers &amp\; copiers)\, CRT TVs*\, LCD TVs*\, cell phones\, VCRs\, tablets\, video game consoles\, blu-ray players\, LED TVs*\, console TVs*\, fax machines\, DVRs\, cameras\, video equipment\, routers/modems\, LCD monitors*\, CRT monitors*\, UPS devices\, iPods/iPads\, keyboards\, receivers\, storage devices\, projection TVs*\, mice\, DVD players\, MP3s\, phones\, digital devices\, radios<br />\n<br />\n** All CRT/LCD monitors $10.00 each<br />\n** All CRT/Console/Projection/LCD/LED TVs $35.00 each<br />\n<br />\nItems NOT accepted: Ink/toner cartridges\, smoke/carbon monoxide detectors\, fire extinguishers\, medical equipment\, water softeners\, household batteries\, light bulbs\, de-manufactured units (Tvs/monitors broken or in pieces) or CDs/Cassette tapes/DVDs.<br />\n<br />\nPayment made with CASH ONLY! No credit/debit cards\, checks accepted. All other listed appliances\, electronics and lawn equipment will be FREE!\n<ul>\n	<li><span style="font-size: 12px\;"><span style="font-family: arial\;"><span style="color: rgb(50\, 49\, 48)\;">Have smaller items gathered a cardboard box or a box you do not need back for easy unloading</span></span></span></li>\n	<li><span style="font-size: 12px\;"><span style="font-family: arial\;">Have all items in the trunk of their car or truck bed to limit contact</span></span></li>\n	<li><span style="font-size: 12px\;"><span style="font-family: arial\;">Remain in their car during unloading</span></span></li>\n	<li><span style="font-size: 12px\;"><span style="font-family: arial\;">If&nbsp\;payment is required\, please wear a mask and have exact cash amount\, if possible</span></span></li>\n</ul>\nFor questions about recycling or the event please contact: Refrigerant Depot at (414) 627-1152.&nbsp\;
LOCATION:Jefferson County Fair Park 503 N Jackson Avenue\, Jefferson\, WI
UID:e.2671.4238
SEQUENCE:3
DTSTAMP:20260424T154437Z
URL:https://business.jeffersonchamberwi.com/events/details/jefferson-county-appliance-electronic-recycling-event-2021-09-02-2021-4238
END:VEVENT

END:VCALENDAR
