BEGIN:VCALENDAR
VERSION:2.0
PRODID:-//ChamberMaster//Event Calendar 2.0//EN
METHOD:PUBLISH
X-PUBLISHED-TTL:P3D
REFRESH-INTERVAL:P3D
CALSCALE:GREGORIAN
BEGIN:VEVENT
DTSTART:20200215T233000Z
DTEND:20200216T003000Z
X-MICROSOFT-CDO-ALLDAYEVENT:FALSE
SUMMARY:Jefferson County Fairest of the Fair Crowning 2020
DESCRIPTION:Crowning of the Jefferson County Fairest of the Fair. RSVP by purchasing a ticket online jcfairpark.com or by calling the Fair Office (920) 674-7148.
X-ALT-DESC;FMTTYPE=text/html:<span style="font-family:arial\;">Crowning of the Jefferson County Fairest of the Fair. RSVP by purchasing a ticket online&nbsp\;<span style="font-size:11.0pt\;">jcfairpark.com or by calling the Fair Office (920) 674-7148.</span></span>
LOCATION:Fair Park Activity Center 503 N. Jackson Ave Jefferson\, WI 53549
UID:e.2671.3940
SEQUENCE:3
DTSTAMP:20260425T203604Z
URL:https://business.jeffersonchamberwi.com/events/details/jefferson-county-fairest-of-the-fair-crowning-2020-3940
END:VEVENT

END:VCALENDAR
