BEGIN:VCALENDAR
VERSION:2.0
PRODID:-//ChamberMaster//Event Calendar 2.0//EN
METHOD:PUBLISH
X-PUBLISHED-TTL:P3D
REFRESH-INTERVAL:P3D
CALSCALE:GREGORIAN
BEGIN:VEVENT
DTSTART;VALUE=DATE:20230304
DTEND;VALUE=DATE:20230310
TRANSP:TRANSPARENT
X-MICROSOFT-CDO-ALLDAYEVENT:TRUE
SUMMARY:Jefferson County Volunteer Opportunities with The Literacy Council 2023
DESCRIPTION:Jefferson County Volunteer Opportunities\n\nHelp the Jefferson County Literacy Council boost community literacy. The JCLC is a community-based adult education organization that provides free basic literacy\, English as a Second Language\, Citizenship\, Computer Literacy\, and pre-GED instruction. We recruit and train volunteers to work in a variety of roles. JCLC has an immediate need for adult tutors.\n\nJoin us for an orientation session to learn about the Council and where you can be of assistance. Call or visit our website for more information: 920-675-0500 www.jclc.us\; Jefferson County Literacy Council 218 S. Wisconsin Dr. #9\, Jefferson\, WI 53549
X-ALT-DESC;FMTTYPE=text/html:<span style="font-size:12.0pt">Jefferson County Volunteer Opportunities</span><br />\n<span style="font-size:12.0pt">Help the Jefferson County Literacy Council boost community literacy. The JCLC is a community-based adult education organization that provides free basic literacy\, English as a Second Language\, Citizenship\, Computer Literacy\, and pre-GED instruction. We recruit and train volunteers to work in a variety of roles. JCLC has an immediate need for adult tutors.</span><br />\n<span style="font-size:12.0pt">Join us for an orientation session&nbsp\;to learn about the Council and where you can be of assistance. <span style="color:black">Call or visit our website for more information:</span></span> <span style="color:black">920-675-0500</span> <span style="color:black"><a href="http://www.jclc.us">www.jclc.us</a>\; Jefferson County Literacy Council</span> 218 S. Wisconsin Dr. #9\, Jefferson\, WI 53549
LOCATION:Various Jefferson County Libraries
UID:e.2671.5272
SEQUENCE:3
DTSTAMP:20260423T131552Z
URL:https://business.jeffersonchamberwi.com/events/details/jefferson-county-volunteer-opportunities-with-the-literacy-council-2023-5272
END:VEVENT

END:VCALENDAR
