BEGIN:VCALENDAR
VERSION:2.0
PRODID:-//ChamberMaster//Event Calendar 2.0//EN
METHOD:PUBLISH
X-PUBLISHED-TTL:P3D
REFRESH-INTERVAL:P3D
CALSCALE:GREGORIAN
BEGIN:VEVENT
DTSTART:20230408T180000Z
DTEND:20230408T210000Z
X-MICROSOFT-CDO-ALLDAYEVENT:FALSE
SUMMARY:Jefferson Memory Care's 2nd Annual Easter Event 2023
DESCRIPTION:Join Jefferson Memory Care for a fun day filled with food\, drinks\, interactive games\, 50/50 drawings\, live music\, and much more! The hunt will start at 2:00PM for all ages\, but feel free to hop around and grab a snack before or after.
X-ALT-DESC;FMTTYPE=text/html:Join Jefferson Memory Care for a fun day filled with food\, drinks\, interactive games\, 50/50 drawings\, live music\, and much more! The hunt will start at 2:00PM for all ages\, but feel free to hop around and grab a snack before or after.
LOCATION:414 County Road Y\, Jefferson\, WI 53549
UID:e.2671.5273
SEQUENCE:3
DTSTAMP:20260423T113639Z
URL:https://business.jeffersonchamberwi.com/events/details/jefferson-memory-care-s-2nd-annual-easter-event-2023-5273
END:VEVENT

END:VCALENDAR
