BEGIN:VCALENDAR
VERSION:2.0
PRODID:-//ChamberMaster//Event Calendar 2.0//EN
METHOD:PUBLISH
X-PUBLISHED-TTL:P3D
REFRESH-INTERVAL:P3D
CALSCALE:GREGORIAN
BEGIN:VEVENT
DTSTART:20220910T150000Z
DTEND:20220910T190000Z
X-MICROSOFT-CDO-ALLDAYEVENT:FALSE
SUMMARY:Jefferson Museum Open House 2022
DESCRIPTION:Jefferson Historical Society is celebrating 60 years. \n\nEnjoy a scavenger hunt\, contests\, refreshments
X-ALT-DESC;FMTTYPE=text/html:Jefferson Historical Society is celebrating 60 years.&nbsp\;<br />\nEnjoy a scavenger hunt\, contests\, refreshments&nbsp\;
LOCATION:317 S Main St\, Jefferson\, WI 53549 Behind the library and City Hall on Gardner Street
UID:e.2671.4815
SEQUENCE:3
DTSTAMP:20260423T233359Z
URL:https://business.jeffersonchamberwi.com/events/details/jefferson-museum-open-house-2022-4815
END:VEVENT

END:VCALENDAR
