BEGIN:VCALENDAR
VERSION:2.0
PRODID:-//ChamberMaster//Event Calendar 2.0//EN
METHOD:PUBLISH
X-PUBLISHED-TTL:P3D
REFRESH-INTERVAL:P3D
CALSCALE:GREGORIAN
BEGIN:VEVENT
DTSTART;VALUE=DATE:20260101
DTEND;VALUE=DATE:20260102
TRANSP:TRANSPARENT
X-MICROSOFT-CDO-ALLDAYEVENT:TRUE
SUMMARY:Jefferson Parks & Recreation Spring Programs Open
DESCRIPTION:See here for the available Spring Programs! https://jeffersonwi.recdesk.com/Community/Page?pageId=23142
X-ALT-DESC;FMTTYPE=text/html:See here for the available Spring Programs! https://jeffersonwi.recdesk.com/Community/Page?pageId=23142
LOCATION:
UID:e.2671.9371
SEQUENCE:3
DTSTAMP:20260425T115205Z
URL:https://business.jeffersonchamberwi.com/events/details/jefferson-parks-recreation-spring-programs-open-9371
END:VEVENT

END:VCALENDAR
