BEGIN:VCALENDAR
VERSION:2.0
PRODID:-//ChamberMaster//Event Calendar 2.0//EN
METHOD:PUBLISH
X-PUBLISHED-TTL:P3D
REFRESH-INTERVAL:P3D
CALSCALE:GREGORIAN
BEGIN:VEVENT
DTSTART:20230320T193000Z
DTEND:20230320T210000Z
X-MICROSOFT-CDO-ALLDAYEVENT:FALSE
SUMMARY:Jefferson Public Library Book Club 2023
DESCRIPTION:The Jefferson Public Library's Adult Book Club is happening Monday\, March 20 @ 2:30-4pm. This month's book pick is The House in the Cerulean Sea by TJ Klune. Join us even if you have not read the entire book. Held in the Library Meeting Room.
X-ALT-DESC;FMTTYPE=text/html:The Jefferson Public Library&#39\;s Adult Book Club is happening Monday\, March 20 @ 2:30-4pm. This month&#39\;s book pick is&nbsp\;<em>The House in the Cerulean Sea&nbsp\;</em>by TJ Klune. Join us even if you have not read the entire book. Held in the Library Meeting Room.
LOCATION:
UID:e.2671.6021
SEQUENCE:3
DTSTAMP:20260423T143136Z
URL:https://business.jeffersonchamberwi.com/events/details/jefferson-public-library-book-club-2023-6021
END:VEVENT

END:VCALENDAR
