BEGIN:VCALENDAR
VERSION:2.0
PRODID:-//ChamberMaster//Event Calendar 2.0//EN
METHOD:PUBLISH
X-PUBLISHED-TTL:P3D
REFRESH-INTERVAL:P3D
CALSCALE:GREGORIAN
BEGIN:VEVENT
DTSTART:20230103T150000Z
DTEND:20230218T210000Z
X-MICROSOFT-CDO-ALLDAYEVENT:FALSE
SUMMARY:Jefferson Public Library Winter Reading Program 2023
DESCRIPTION:Jefferson Public Library Winter Reading Program 2023  - Hibernate with a Good Book!\n\nJanuary 3- February 18\n\n\n\nAll ages are welcome to participate in our Winter Reading Program. Stop by the Adult or Youth Circulation Desk to learn more to sign up.
X-ALT-DESC;FMTTYPE=text/html:Jefferson Public Library Winter Reading Program 2023&nbsp\; - Hibernate with a Good Book!<br />\nJanuary 3- February 18<br />\n<br />\nAll ages are welcome to participate in our Winter Reading Program. Stop by the Adult or Youth Circulation Desk to learn more to sign up.
LOCATION:
UID:e.2671.4965
SEQUENCE:3
DTSTAMP:20260423T142627Z
URL:https://business.jeffersonchamberwi.com/events/details/jefferson-public-library-winter-reading-program-2023-4965
END:VEVENT

END:VCALENDAR
