BEGIN:VCALENDAR
VERSION:2.0
PRODID:-//ChamberMaster//Event Calendar 2.0//EN
METHOD:PUBLISH
X-PUBLISHED-TTL:P3D
REFRESH-INTERVAL:P3D
CALSCALE:GREGORIAN
BEGIN:VEVENT
DTSTART:20220928T213000Z
DTEND:20220928T233000Z
X-MICROSOFT-CDO-ALLDAYEVENT:FALSE
SUMMARY:Jefferson Ruby's Pantry 2022
DESCRIPTION:Jefferson Ruby's Pantry\n\n\n\nStretch your food budget!  Enjoy a variety of food!\n\n\n\nReceive an abundance of food.\n\nNo income or residency restrictions.\n\nALL are welcome!\n\n\n\n$25 Cash Donation\n\nPre-Pay reservations open two weeks before each event.\n\nOr pay upon arrival between 4:30-6:30pm\n\n\n\nFacebook: @RubysPantryImmanuelUMCJeffersonWI\n\nRe \n\n\nRegistration:  https://rubyspantry.org/pre-register/140\n\nHosted by Immanuel UMC\n\nIn need for volunteers each month.  It takes approx 70 volunteers to make this event happen.  Here is the link below they would use to register with Ruby's Pantry (this part only needs to be done one time).  Then Ruby's Pantry will forward their information to us here at the church\, we then add them to our email list & each month we email them the signup genius with volunteer time slots. \n\n\n\nRuby's Pantry (rubyspantry.org)
X-ALT-DESC;FMTTYPE=text/html:<span style="font-size:24px\;"><strong>Jefferson Ruby&#39\;s Pantry</strong></span><br />\n<br />\n<span style="font-size:18px\;"><span style="color:#B22222\;"><strong>Stretch your food budget!&nbsp\; Enjoy a variety of food!</strong></span><br />\n<br />\n<span style="font-family:arial\;">Receive an abundance of food.<br />\nNo income or residency restrictions.<br />\nALL are welcome!<br />\n<br />\n$25 Cash Donation<br />\nPre-Pay reservations open two weeks before each event.<br />\nOr pay upon arrival between 4:30-6:30pm</span></span><br />\n<br />\n<span style="font-family:arial\;"><span style="font-size:18px\;">Facebook:&nbsp\;<a href="https://www.facebook.com/RubysPantryImmanuelUMCJeffersonWI"><span style="color:#0000FF\;">@RubysPantryImmanuelUMCJeffersonWI</span></a></span><br />\n<span class="rfua0xdk pmk7jnqg stjgntxs ni8dbmo4 ay7djpcl q45zohi1" style="height: 1px\; overflow: hidden\; position: absolute\; clip: rect(0px\, 0px\, 0px\, 0px)\; width: 1px\; color: rgb(101\, 103\, 107)\; font-size: 17px\;">Re&nbsp\;</span></span>\n<div><br />\n<span style="font-family:arial\;"><span style="font-size:18px\;">Registration:&nbsp\; <a href="https://l.facebook.com/l.php?u=https%3A%2F%2Fwww.rubyspantry.org%2Flocation%2F140%3Ffbclid%3DIwAR3nONZsQGdnIomKUfUiDv2FPtAYzVlSZwHCH84wwk9fzJCQUgVLUV69E2E&amp\;h=AT1XTScJNyca9rgrwG9iWpWKzkMb3tR4VRmYwLWzY5HL7Y2WaAd9vFFeBFMtfTB0PGC5I6pbTYPt3CcYIbF4BIjKFZQoG6ULUb9-wjI-XjuDw_kGyQK8qVmMYuhp0thaVB-J&amp\;__tn__=-UK-R&amp\;c[0]=AT1Zc7l0NpCgzHsfzxicHFnLeEIUqDd1qo6DTGl9h3el7Y56MJSwlkVJu--cWC4AZdooNodr2ZLsR1_iAZ6AJOoSz-C3WXfPd5WRdoP5nGsSBzaYd0SczHqX9bqQgcB4SkNL_4Pr0s4LJcmiBLZyQyGlGZitldcSsjVKEmfNFQBUCg"><span style="color:#0000FF\;">https://rubyspantry.org/pre-register/140</span></a><br />\nHosted by Immanuel UMC</span></span>\n<div style="border: 0px\; font-variant-numeric: inherit\; font-variant-east-asian: inherit\; font-stretch: inherit\; font-size: 15px\; line-height: inherit\; font-family: &quot\;Segoe UI&quot\;\, &quot\;Segoe UI Web (West European)&quot\;\, &quot\;Segoe UI&quot\;\, -apple-system\, BlinkMacSystemFont\, Roboto\, &quot\;Helvetica Neue&quot\;\, sans-serif\; margin: 0px\; padding: 0px\; vertical-align: baseline\; color: rgb(32\, 31\, 30)\;">\n<p class="x_MsoNormal" style="margin: 0in\; font-size: 11pt\; font-family: Calibri\, sans-serif\;"><span style="font-family:arial\;"><span style="border: 0px\; font-style: inherit\; font-variant: inherit\; font-weight: inherit\; font-stretch: inherit\; font-size: 12pt\; line-height: inherit\; margin: 0px\; padding: 0px\; vertical-align: baseline\; color: inherit\;">In need for volunteers each month.&nbsp\; It takes approx 70 volunteers to make this event happen.&nbsp\; Here is the link below they would use to register with Ruby&#39\;s Pantry (this part only needs to be done one time).&nbsp\; Then Ruby&#39\;s Pantry will forward their information to us here at the church\, we then add them to our email list &amp\; each month we email them the signup genius with volunteer time slots.&nbsp\;</span></span></p>\n</div>\n\n<div style="border: 0px\; font-variant-numeric: inherit\; font-variant-east-asian: inherit\; font-stretch: inherit\; font-size: 15px\; line-height: inherit\; font-family: &quot\;Segoe UI&quot\;\, &quot\;Segoe UI Web (West European)&quot\;\, &quot\;Segoe UI&quot\;\, -apple-system\, BlinkMacSystemFont\, Roboto\, &quot\;Helvetica Neue&quot\;\, sans-serif\; margin: 0px\; padding: 0px\; vertical-align: baseline\; color: rgb(32\, 31\, 30)\;">\n<p class="x_MsoNormal" style="margin: 0in\; font-size: 11pt\; font-family: Calibri\, sans-serif\;"><span style="font-family:arial\;"><span style="border: 0px\; font-style: inherit\; font-variant: inherit\; font-weight: inherit\; font-stretch: inherit\; font-size: 12pt\; line-height: inherit\; margin: 0px\; padding: 0px\; vertical-align: baseline\; color: inherit\;"><a data-auth="NotApplicable" data-linkindex="1" data-safelink="true" href="https://www.rubyspantry.org/become-volunteer" rel="noopener noreferrer" style="border: 0px\; font: inherit\; margin: 0px\; padding: 0px\; vertical-align: baseline\; color: blue\;" target="_blank">Ruby&#39\;s Pantry (rubyspantry.org)</a>&nbsp\; &nbsp\;</span></span></p>\n</div>\n</div>\n
LOCATION:Jefferson County Fair Park 503 N Jackson Ave Jefferson\, WI
UID:e.2671.4857
SEQUENCE:3
DTSTAMP:20260423T220645Z
URL:https://business.jeffersonchamberwi.com/events/details/jefferson-ruby-s-pantry-2022-09-28-2022-4857
END:VEVENT

END:VCALENDAR
