BEGIN:VCALENDAR
VERSION:2.0
PRODID:-//ChamberMaster//Event Calendar 2.0//EN
METHOD:PUBLISH
X-PUBLISHED-TTL:P3D
REFRESH-INTERVAL:P3D
CALSCALE:GREGORIAN
BEGIN:VEVENT
DTSTART:20211030T200000Z
DTEND:20211031T000000Z
X-MICROSOFT-CDO-ALLDAYEVENT:FALSE
SUMMARY:Jefferson Trick or Treating 2021
DESCRIPTION:Enjoy Trick-or-Treating throughout Jefferson!
X-ALT-DESC;FMTTYPE=text/html:Enjoy Trick-or-Treating throughout Jefferson!
LOCATION:
UID:e.2671.4280
SEQUENCE:3
DTSTAMP:20260424T134650Z
URL:https://business.jeffersonchamberwi.com/events/details/jefferson-trick-or-treating-2021-4280
END:VEVENT

END:VCALENDAR
