BEGIN:VCALENDAR
VERSION:2.0
PRODID:-//ChamberMaster//Event Calendar 2.0//EN
METHOD:PUBLISH
X-PUBLISHED-TTL:P3D
REFRESH-INTERVAL:P3D
CALSCALE:GREGORIAN
BEGIN:VEVENT
DTSTART:20250427T000000Z
DTEND:20250427T023000Z
X-MICROSOFT-CDO-ALLDAYEVENT:FALSE
SUMMARY:JHS Presents: Disney's Freaky Friday 2025
DESCRIPTION:When an overworked mother and her teenage daughter magically swap bodies\, they have just one day to put things right again before mom's big wedding. Freaky Friday\, a new musical based on the celebrated novel by Mary Rodgers and the hit Disney films\, is a hilarious\, contemporary update on an American classic in which a mother and daughter really see what it is to be a family and experience each other's lives first-hand\, if only for a day.\n\n"Delightfully spunky" with "timeless appeal" (Variety)\, Freaky Friday features a new book by Bridget Carpenter (Parenthood) and an original pop/rock score by Tony Award and Pulitzer Prize winners Tom Kitt and Brian Yorkey (Next to Normal). This dynamic story puts a fresh new spin on a "polished\, peppy\, modern fairy tale" (The Washington Post).
X-ALT-DESC;FMTTYPE=text/html:<div class="xdj266r x11i5rnm xat24cr x1mh8g0r x1vvkbs" style="margin: 0px\; overflow-wrap: break-word\; font-family: &quot\;Segoe UI Historic&quot\;\, &quot\;Segoe UI&quot\;\, Helvetica\, Arial\, sans-serif\; color: rgb(8\, 8\, 9)\; font-size: 15px\;">When an overworked mother and her teenage daughter magically swap bodies\, they have just one day to put things right again before mom&rsquo\;s big wedding. Freaky Friday\, a new musical based on the celebrated novel by Mary Rodgers and the hit Disney films\, is a hilarious\, contemporary update on an American classic in which a mother and daughter really see what it is to be a family and experience each other&rsquo\;s lives first-hand\, if only for a day.</div>\n\n<div class="x11i5rnm xat24cr x1mh8g0r x1vvkbs xtlvy1s" style="margin: 0.5em 0px 0px\; overflow-wrap: break-word\; font-family: &quot\;Segoe UI Historic&quot\;\, &quot\;Segoe UI&quot\;\, Helvetica\, Arial\, sans-serif\; color: rgb(8\, 8\, 9)\; font-size: 15px\;">&ldquo\;Delightfully spunky&rdquo\; with &ldquo\;timeless appeal&rdquo\; (Variety)\, Freaky Friday features a new book by Bridget Carpenter (Parenthood) and an original pop/rock score by Tony Award and Pulitzer Prize winners Tom Kitt and Brian Yorkey (Next to Normal). This dynamic story puts a fresh new spin on a &ldquo\;polished\, peppy\, modern fairy tale&rdquo\; (The Washington Post).</div>\n
LOCATION:Jefferson High School 700 W Milwaukee St Jefferson\, WI
UID:e.2671.8912
SEQUENCE:3
DTSTAMP:20260426T024846Z
URL:https://business.jeffersonchamberwi.com/events/details/jhs-presents-disney-s-freaky-friday-04-26-2025-8912
END:VEVENT

END:VCALENDAR
