BEGIN:VCALENDAR
VERSION:2.0
PRODID:-//ChamberMaster//Event Calendar 2.0//EN
METHOD:PUBLISH
X-PUBLISHED-TTL:P3D
REFRESH-INTERVAL:P3D
CALSCALE:GREGORIAN
BEGIN:VEVENT
DTSTART;VALUE=DATE:20191109
DTEND;VALUE=DATE:20191110
TRANSP:TRANSPARENT
X-MICROSOFT-CDO-ALLDAYEVENT:TRUE
SUMMARY:JHS Team Trivia NIght 2019
DESCRIPTION:Pre-Register your team with Mr. E in Room 134 Today!\n\nAdults $10 and Students $5\n\nMax of 8 players per team\n\nFor questions please email: ellinghausenw@sdoj.org
X-ALT-DESC;FMTTYPE=text/html:Pre-Register your team with Mr. E in Room 134 Today!<br />\nAdults $10 and Students $5<br />\nMax of 8 players per team<br />\nFor questions please email: ellinghausenw@sdoj.org
LOCATION:Jefferson High School Commons
UID:e.2671.3903
SEQUENCE:3
DTSTAMP:20260426T005228Z
URL:https://business.jeffersonchamberwi.com/events/details/jhs-team-trivia-night-2019-3903
END:VEVENT

END:VCALENDAR
