BEGIN:VCALENDAR
VERSION:2.0
PRODID:-//ChamberMaster//Event Calendar 2.0//EN
METHOD:PUBLISH
X-PUBLISHED-TTL:P3D
REFRESH-INTERVAL:P3D
CALSCALE:GREGORIAN
BEGIN:VEVENT
DTSTART:20221110T220000Z
DTEND:20221110T230000Z
X-MICROSOFT-CDO-ALLDAYEVENT:FALSE
SUMMARY:LEGO Club @ the Jefferson Public Library 2022
DESCRIPTION:Join Mr. Nate for open build LEGO Club at the Jefferson Public Library. All ages are welcome.
X-ALT-DESC;FMTTYPE=text/html:Join Mr. Nate for open build LEGO Club at the Jefferson Public Library. All ages are welcome.&nbsp\;
LOCATION:
UID:e.2671.4918
SEQUENCE:3
DTSTAMP:20260423T204930Z
URL:https://business.jeffersonchamberwi.com/events/details/lego-club-the-jefferson-public-library-2022-4918
END:VEVENT

END:VCALENDAR
