BEGIN:VCALENDAR
VERSION:2.0
PRODID:-//ChamberMaster//Event Calendar 2.0//EN
METHOD:PUBLISH
X-PUBLISHED-TTL:P3D
REFRESH-INTERVAL:P3D
CALSCALE:GREGORIAN
BEGIN:VEVENT
DTSTART:20250918T150000Z
DTEND:20250918T154500Z
X-MICROSOFT-CDO-ALLDAYEVENT:FALSE
SUMMARY:Little Movers Storytime at the Jefferson Public Library 2025
DESCRIPTION:Little Movers Storytime at the Jefferson Public Library!\n\nLittle Movers Storytime's goal is to focus on gross motor skills and early literacy through songs & activities\, books\, and interactive play. Playtime will follow each session. \n\nThis program is best for those aged 18 mos.   3 years old and their caregiver(s).\n\n\n\nHeld in the Library Meeting Room.
X-ALT-DESC;FMTTYPE=text/html:<p>Little Movers Storytime at the Jefferson Public Library!<br />\nLittle Movers Storytime&rsquo\;s goal is to focus on gross motor skills and early literacy through songs &amp\; activities\, books\, and interactive play. Playtime will follow each session.&nbsp\;</p>\n\n<p>This program is best for those aged 18 mos. &ndash\; 3 years old and their caregiver(s).<br />\n<br />\nHeld in the Library Meeting Room.</p>\n
LOCATION:
UID:e.2671.9051
SEQUENCE:3
DTSTAMP:20260425T181511Z
URL:https://business.jeffersonchamberwi.com/events/details/little-movers-storytime-at-the-jefferson-public-library-09-18-2025-9051
END:VEVENT

END:VCALENDAR
