BEGIN:VCALENDAR
VERSION:2.0
PRODID:-//ChamberMaster//Event Calendar 2.0//EN
METHOD:PUBLISH
X-PUBLISHED-TTL:P3D
REFRESH-INTERVAL:P3D
CALSCALE:GREGORIAN
BEGIN:VEVENT
DTSTART:20250925T150000Z
DTEND:20250925T154500Z
X-MICROSOFT-CDO-ALLDAYEVENT:FALSE
SUMMARY:Little Movers Storytime at the Jefferson Public Library
DESCRIPTION:Jefferson Public Library's Little Movers Storytime's goal is to focus on gross motor skills and early literacy through songs & activities\, books\, and interactive play. Playtime will follow each session. \n\nThis program is best for those aged 18 mos.   3 years old and their caregiver(s).\n\n\n\nHeld in the Library Meeting Room.
X-ALT-DESC;FMTTYPE=text/html:<p>Jefferson Public Library&#39\;s Little Movers Storytime&rsquo\;s goal is to focus on gross motor skills and early literacy through songs &amp\; activities\, books\, and interactive play. Playtime will follow each session.&nbsp\;</p>\n\n<p>This program is best for those aged 18 mos. &ndash\; 3 years old and their caregiver(s).<br />\n<br />\nHeld in the Library Meeting Room.</p>\n
LOCATION:
UID:e.2671.9035
SEQUENCE:3
DTSTAMP:20260425T194733Z
URL:https://business.jeffersonchamberwi.com/events/details/little-movers-storytime-at-the-jefferson-public-library-09-25-2025-9035
END:VEVENT

END:VCALENDAR
