BEGIN:VCALENDAR
VERSION:2.0
PRODID:-//ChamberMaster//Event Calendar 2.0//EN
METHOD:PUBLISH
X-PUBLISHED-TTL:P3D
REFRESH-INTERVAL:P3D
CALSCALE:GREGORIAN
BEGIN:VEVENT
DTSTART:20251204T160000Z
DTEND:20251204T164500Z
X-MICROSOFT-CDO-ALLDAYEVENT:FALSE
SUMMARY:Little Movers Storytime at the Jefferson Public Library
DESCRIPTION:Little Movers Storytime's goal is to focus on gross motor skills and early literacy through songs & activities\, books\, and interactive play. Playtime will follow each session. This program will be held in the Library Meeting Room at the Jefferson Public Library.
X-ALT-DESC;FMTTYPE=text/html:<span style="color:rgb(0\, 0\, 0)\; font-family:lato\,sans-serif\; font-size:14px">Little Movers Storytime&rsquo\;s goal is to focus on gross motor skills and early literacy through songs &amp\; activities\, books\, and interactive play. Playtime will follow each session. This program will be held in the Library Meeting Room at the Jefferson Public Library.&nbsp\;</span>
LOCATION:321 S. Main St.\, Jefferson\, WI 53549
UID:e.2671.9096
SEQUENCE:3
DTSTAMP:20260425T134632Z
URL:https://business.jeffersonchamberwi.com/events/details/little-movers-storytime-at-the-jefferson-public-library-12-04-2025-9096
END:VEVENT

END:VCALENDAR
