BEGIN:VCALENDAR
VERSION:2.0
PRODID:-//ChamberMaster//Event Calendar 2.0//EN
METHOD:PUBLISH
X-PUBLISHED-TTL:P3D
REFRESH-INTERVAL:P3D
CALSCALE:GREGORIAN
BEGIN:VEVENT
DTSTART:20200313T230000Z
DTEND:20200314T020000Z
X-MICROSOFT-CDO-ALLDAYEVENT:FALSE
SUMMARY:Live Music - No Cover! RiverStone Presents: The Radiant Beings 2020
DESCRIPTION:RiverStone is happy to welcome back The Radiant Beings!  Join us from 6-9pm for some incredible music.
X-ALT-DESC;FMTTYPE=text/html:RiverStone is happy to welcome back The Radiant Beings!&nbsp\; Join us from 6-9pm for some incredible music.
LOCATION:RiverStone Premier Event Center 1905 Central Coast Lane Fort Atkinson\, WI 53538
UID:e.2671.4028
SEQUENCE:3
DTSTAMP:20260425T190434Z
URL:https://business.jeffersonchamberwi.com/events/details/live-music-no-cover-riverstone-presents-the-radiant-beings-2020-4028
END:VEVENT

END:VCALENDAR
