BEGIN:VCALENDAR
VERSION:2.0
PRODID:-//ChamberMaster//Event Calendar 2.0//EN
METHOD:PUBLISH
X-PUBLISHED-TTL:P3D
REFRESH-INTERVAL:P3D
CALSCALE:GREGORIAN
BEGIN:VEVENT
DTSTART:20200320T230000Z
DTEND:20200321T020000Z
X-MICROSOFT-CDO-ALLDAYEVENT:FALSE
SUMMARY:Live Music - No Cover! RiverStone Presents: Tony Inzeo 2020
DESCRIPTION:RiverStone welcomes back Tony Inzeo for an evening of music!
X-ALT-DESC;FMTTYPE=text/html:RiverStone welcomes back Tony Inzeo for an evening of music!
LOCATION:RiverStone Premier Event Center 1905 Central Coast Lane Fort Atkinson\, WI 53538
UID:e.2671.4029
SEQUENCE:3
DTSTAMP:20260425T190330Z
URL:https://business.jeffersonchamberwi.com/events/details/live-music-no-cover-riverstone-presents-tony-inzeo-2020-4029
END:VEVENT

END:VCALENDAR
