BEGIN:VCALENDAR
VERSION:2.0
PRODID:-//ChamberMaster//Event Calendar 2.0//EN
METHOD:PUBLISH
X-PUBLISHED-TTL:P3D
REFRESH-INTERVAL:P3D
CALSCALE:GREGORIAN
BEGIN:VEVENT
DTSTART:20210328T150000Z
DTEND:20210328T210000Z
X-MICROSOFT-CDO-ALLDAYEVENT:FALSE
SUMMARY:Made in My Hometown
DESCRIPTION:Made In My Hometown is BACK for another weekend with 15 unique vendors! Make sure to check back & refresh your browser for the latest information!\n\n\n\nWebsite: https://24x7itconnection.com/madeinmyhometown/\n\nVendors: Operation Wood\, Janet Nelson Art\, Oaks + Cotton\, Craft.Ash.Trophy Creates\, BlesseDIY\, Little Mrs. Crafty Pants\, Cheryl's Heartfelt Expressions\, Crafts by Susan + MORE!\n\nSponsored by: 24x17 It Connection
X-ALT-DESC;FMTTYPE=text/html:<div class="kvgmc6g5 cxmmr5t8 oygrvhab hcukyx3x c1et5uql ii04i59q" style="overflow-wrap: break-word\; margin: 0px\; white-space: pre-wrap\; font-family: &quot\;Segoe UI Historic&quot\;\, &quot\;Segoe UI&quot\;\, Helvetica\, Arial\, sans-serif\; color: rgb(5\, 5\, 5)\; font-size: 15px\;">\n<div dir="auto" style="font-family: inherit\;">Made In My Hometown is BACK for another weekend with 15 unique vendors! Make sure to check back &amp\; refresh your browser for the latest information!</div>\n</div>\n\n<div class="o9v6fnle cxmmr5t8 oygrvhab hcukyx3x c1et5uql ii04i59q" style="overflow-wrap: break-word\; margin: 0.5em 0px 0px\; white-space: pre-wrap\; font-family: &quot\;Segoe UI Historic&quot\;\, &quot\;Segoe UI&quot\;\, Helvetica\, Arial\, sans-serif\; color: rgb(5\, 5\, 5)\; font-size: 15px\;">\n<div dir="auto" style="font-family: inherit\;">Website: <span style="font-family: inherit\;"><a class="oajrlxb2 g5ia77u1 qu0x051f esr5mh6w e9989ue4 r7d6kgcz rq0escxv nhd2j8a9 nc684nl6 p7hjln8o kvgmc6g5 cxmmr5t8 oygrvhab hcukyx3x jb3vyjys rz4wbd8a qt6c0cv9 a8nywdso i1ao9s8h esuyzwwr f1sip0of lzcic4wl py34i1dx gpro0wi8" href="https://24x7itconnection.com/madeinmyhometown/?fbclid=IwAR3G1Lrr2g9_SihAQZXGLRe6fsRIfbphU53aFuL-Vp8JSTmXBMSBVDrK_98" rel="nofollow noopener" role="link" style="color: var(--blue-link)\; cursor: pointer\; text-decoration-line: none\; outline: none\; list-style: none\; border-width: 0px\; border-style: initial\; border-color: initial\; padding: 0px\; margin: 0px\; touch-action: manipulation\; background-color: transparent\; text-align: inherit\; display: inline\; -webkit-tap-highlight-color: transparent\; box-sizing: border-box\; font-family: inherit\;" tabindex="0" target="_blank">https://24x7itconnection.com/madeinmyhometown/</a><br />\nVendors: Operation Wood\, Janet Nelson Art\, Oaks + Cotton\, Craft.Ash.Trophy Creates\, BlesseDIY\, Little Mrs. Crafty Pants\, Cheryl&#39\;s Heartfelt Expressions\, Crafts by Susan + MORE!</span></div>\n\n<div dir="auto" style="font-family: inherit\;">Sponsored by: 24x17 It Connection</div>\n</div>\n
LOCATION:Locations (Jefferson\, WI): 115 S Main Street | 127 S Main Street | 116 E Milwaukee Street
UID:e.2671.4235
SEQUENCE:3
DTSTAMP:20260425T001719Z
URL:https://business.jeffersonchamberwi.com/events/details/made-in-my-hometown-03-28-2021-4235
END:VEVENT

END:VCALENDAR
