BEGIN:VCALENDAR
VERSION:2.0
PRODID:-//ChamberMaster//Event Calendar 2.0//EN
METHOD:PUBLISH
X-PUBLISHED-TTL:P3D
REFRESH-INTERVAL:P3D
CALSCALE:GREGORIAN
BEGIN:VEVENT
DTSTART:20210515T233000Z
DTEND:20210516T033000Z
X-MICROSOFT-CDO-ALLDAYEVENT:FALSE
SUMMARY:May Ball 2021
DESCRIPTION:Don't miss the unveiling of the 50th Anniversary of Gemuetlichkeit Days King and Queen! Enjoy euchre in the afternoon and polka in the evening as well as the announcement of the 2020 King and Queen! \n\n\n\nAdmission this year is only $3.00 each\, or two for $5.00 for raffle tickets purchased at the door. You not only will be supporting the Gemuetlichkeit Days Scholarship fund\, but will have a chance to win one of several prizes. They are listed below. If you have already purchased a raffle ticket from a Gemuetlichkeit person prior to this event simply bring a stub along. Card players will also need to purchase this $2 raffle ticket admission.  Please join us to welcome our new royal couple.\n\n\n\nThe Euchre Tournament registration is at 3:00 p.m. Play begins at 3:30 p.m. with a $2.00 entry fee. All entry money is paid out in prizes.  The Card Tournament is sponsored by:  Griffin Motors . Please thank them for their continued support.
X-ALT-DESC;FMTTYPE=text/html:<span style="font-family:arial\;"><span style="color: rgb(102\, 102\, 102)\; white-space: pre-wrap\;">Don&#39\;t miss the unveiling of the 50th Anniversary of Gemuetlichkeit Days King and Queen! </span></span><span style="color: rgb(102\, 102\, 102)\; white-space: pre-wrap\;">Enjoy euchre in the afternoon and polka in the evening as well as the announcement of the 2020 King and Queen! </span><br />\n<br />\n<span style="font-family:arial\;"><span style="color: rgb(102\, 102\, 102)\; white-space: pre-wrap\;">Admission this year is only $3.00 each\, or two for $5.00 for raffle tickets purchased at the door. You not only will be supporting the Gemuetlichkeit Days Scholarship fund\, but will have a chance to win one of several prizes. They are listed below. If you have&nbsp\;already purchased a raffle ticket from a Gemuetlichkeit person prior to this event simply bring a stub along. Card players will also need to purchase this $2 raffle ticket admission. &nbsp\;Please join us to welcome our new royal couple.</span></span><br />\n<br />\nThe&nbsp\;<strong>Euchre Tournament</strong>&nbsp\;registration is at 3:00 p.m. Play begins at 3:30 p.m. with a $2.00 entry fee. All entry money is paid out in prizes. &nbsp\;The Card Tournament is sponsored by:&nbsp\;&nbsp\;<strong><a href="https://www.griffinchryslerjeepdodgeram.com/" rel="noreferrer noopener" target="_blank">Griffin Motors</a>&nbsp\;</strong>. Please thank them for their continued support. <!-- /wp:paragraph --><!-- wp:paragraph -->
LOCATION:Fairview Sports Bar\, Jefferson\, WI
UID:e.2671.4231
SEQUENCE:3
DTSTAMP:20260424T212846Z
URL:https://business.jeffersonchamberwi.com/events/details/may-ball-2021-4231
END:VEVENT

END:VCALENDAR
