BEGIN:VCALENDAR
VERSION:2.0
PRODID:-//ChamberMaster//Event Calendar 2.0//EN
METHOD:PUBLISH
X-PUBLISHED-TTL:P3D
REFRESH-INTERVAL:P3D
CALSCALE:GREGORIAN
BEGIN:VEVENT
DTSTART:20220614T180000Z
DTEND:20220614T190000Z
X-MICROSOFT-CDO-ALLDAYEVENT:FALSE
SUMMARY:Medicare 101
DESCRIPTION:You're invited to Medicare 101: Parts A\, B\, C & D. Join us for FREE education on understanding Medicare. We'll discuss and educate you on: - Making the most of your rights\, options and entitlements - How and when to enroll in Medicare - What Medicare does and doesn't cover - Medicare Advantage and Medicare Supplement Insurance Don't miss out! Seating is limited. Free Admission Intended for use in the United States. We are not connected with\, nor endorsed by\, the U.S. Government or the Federal Medicare Program. Insurance Policy Kinds: L535\, L536\, L537\, L538\, L539\, F005\, F006\, F007\, F008\, F009\, F011\, F012. This is a solicitation of insurance. An agent may contact you.
X-ALT-DESC;FMTTYPE=text/html:You&rsquo\;re invited to Medicare 101: Parts A\, B\, C &amp\; D. Join us for FREE education on understanding Medicare. We&rsquo\;ll discuss and educate you on: - Making the most of your rights\, options and entitlements - How and when to enroll in Medicare - What Medicare does and doesn&rsquo\;t cover - Medicare Advantage and Medicare Supplement Insurance Don&rsquo\;t miss out! Seating is limited. Free Admission Intended for use in the United States. We are not connected with\, nor endorsed by\, the U.S. Government or the Federal Medicare Program. Insurance Policy Kinds: L535\, L536\, L537\, L538\, L539\, F005\, F006\, F007\, F008\, F009\, F011\, F012. This is a solicitation of insurance. An agent may contact you.
LOCATION:Register here: https://www.bigmarker.com/physicians-mutual/Melissa_Brian_386702
UID:e.2671.4763
SEQUENCE:3
DTSTAMP:20260424T035522Z
URL:https://business.jeffersonchamberwi.com/events/details/medicare-101-06-14-2022-4763
END:VEVENT

END:VCALENDAR
