BEGIN:VCALENDAR
VERSION:2.0
PRODID:-//ChamberMaster//Event Calendar 2.0//EN
METHOD:PUBLISH
X-PUBLISHED-TTL:P3D
REFRESH-INTERVAL:P3D
CALSCALE:GREGORIAN
BEGIN:VEVENT
DTSTART:20220922T150000Z
DTEND:20220922T170000Z
X-MICROSOFT-CDO-ALLDAYEVENT:FALSE
SUMMARY:Medicare 101
DESCRIPTION:Join us for Medicare 101\n\nParts A\, B\, C\, & D\n\n\n\nWe'll discuss and educate you on:\n\n  Making the most of your rights\, options and entitlements\n\n  How and when to enroll in Medicare\n\n  What Medicare does and doesn't cover\n\n  Medicare Advantage and Medicare Supplement insurance\n\n  And much more!\n\n\n\nRSVP to save your seat today!\n\n\n\nMelissa Draeger\n\nCell: 920-728-6411\n\nEmail: draegerinsurancellc@gmail.com\n\n\n\nBrian Rehm\n\nCell: 414-202-5938\n\nEmail: brehminsurance@gmail.com
X-ALT-DESC;FMTTYPE=text/html:Join us for Medicare 101<br />\nParts A\, B\, C\, &amp\; D<br />\n<br />\nWe&rsquo\;ll discuss and educate you on:<br />\n&bull\; Making the most of your rights\, options and entitlements<br />\n&bull\; How and when to enroll in Medicare<br />\n&bull\; What Medicare does and doesn&rsquo\;t cover<br />\n&bull\; Medicare Advantage and Medicare Supplement insurance<br />\n&bull\; And much more!<br />\n<br />\nRSVP to save your seat today!<br />\n<br />\nMelissa Draeger<br />\nCell: 920-728-6411<br />\nEmail: draegerinsurancellc@gmail.com<br />\n<br />\nBrian Rehm<br />\nCell: 414-202-5938<br />\nEmail: brehminsurance@gmail.com
LOCATION:The Hub - Lake Mills 128 West Madison Lake Mills\, WI 53551
UID:e.2671.4811
SEQUENCE:3
DTSTAMP:20260423T220531Z
URL:https://business.jeffersonchamberwi.com/events/details/medicare-101-4811
END:VEVENT

END:VCALENDAR
