BEGIN:VCALENDAR
VERSION:2.0
PRODID:-//ChamberMaster//Event Calendar 2.0//EN
METHOD:PUBLISH
X-PUBLISHED-TTL:P3D
REFRESH-INTERVAL:P3D
CALSCALE:GREGORIAN
BEGIN:VEVENT
DTSTART:20230109T163000Z
DTEND:20230109T180000Z
X-MICROSOFT-CDO-ALLDAYEVENT:FALSE
SUMMARY:Memory Cafe
DESCRIPTION:Reminsice about some much-loved movies and the songs that captured our hearts. \nWhat is a Memory Cafe?\n\nA Memory Caf  is an informal social gathering for those living with early-stage memory loss and their care partner.\n\nPlease see our website at librarymemoryproject.org for more information.
X-ALT-DESC;FMTTYPE=text/html:Reminsice about some much-loved movies and the songs that captured our hearts.&nbsp\;\n<p>What is a Memory Cafe?<br />\nA Memory Caf&eacute\; is an informal social gathering for those living with early-stage memory loss and their care partner.</p>\n\n<p>Please see our website at librarymemoryproject.org for more information.</p>\n
LOCATION:
UID:e.2671.4962
SEQUENCE:3
DTSTAMP:20260423T174118Z
URL:https://business.jeffersonchamberwi.com/events/details/memory-cafe-01-09-2023-4962
END:VEVENT

END:VCALENDAR
