BEGIN:VCALENDAR
VERSION:2.0
PRODID:-//ChamberMaster//Event Calendar 2.0//EN
METHOD:PUBLISH
X-PUBLISHED-TTL:P3D
REFRESH-INTERVAL:P3D
CALSCALE:GREGORIAN
BEGIN:VEVENT
DTSTART:20250609T153000Z
DTEND:20250609T170000Z
X-MICROSOFT-CDO-ALLDAYEVENT:FALSE
SUMMARY:Memory Cafe at Jefferson Public Library
DESCRIPTION:Build with LEGO bricks or DUPLO blocks! Bring out the joy and laughter brick by brick. Registration is not required. Light refreshments will be provided. What is a Memory Caf ? A Memory Caf  is an informal social gathering for those living with early-stage memory loss and their care partner.
X-ALT-DESC;FMTTYPE=text/html:Build with LEGO bricks or DUPLO blocks! Bring out the joy and laughter brick by brick. Registration is not required. Light refreshments will be provided. What is a Memory Caf&eacute\;? A Memory Caf&eacute\; is an informal social gathering for those living with early-stage memory loss and their care partner.
LOCATION:
UID:e.2671.8946
SEQUENCE:3
DTSTAMP:20260426T000607Z
URL:https://business.jeffersonchamberwi.com/events/details/memory-cafe-at-jefferson-public-library-06-09-2025-8946
END:VEVENT

END:VCALENDAR
