BEGIN:VCALENDAR
VERSION:2.0
PRODID:-//ChamberMaster//Event Calendar 2.0//EN
METHOD:PUBLISH
X-PUBLISHED-TTL:P3D
REFRESH-INTERVAL:P3D
CALSCALE:GREGORIAN
BEGIN:VEVENT
DTSTART:20250722T150000Z
DTEND:20250722T160000Z
X-MICROSOFT-CDO-ALLDAYEVENT:FALSE
SUMMARY:Messy Art at Jefferson Public Library
DESCRIPTION:Little ones will enjoy art projects that you don't want to do inside your house! Wear clothes that you don't mind getting dirty. This program will be held at Rotary Park. Smocks will be available while supplies last.
X-ALT-DESC;FMTTYPE=text/html:Little ones will enjoy art projects that you don&rsquo\;t want to do inside your house! Wear clothes that you don&rsquo\;t mind getting dirty. This program will be held at Rotary Park. Smocks will be available while supplies last.
LOCATION:
UID:e.2671.8962
SEQUENCE:3
DTSTAMP:20260425T223521Z
URL:https://business.jeffersonchamberwi.com/events/details/messy-art-at-jefferson-public-library-07-22-2025-8962
END:VEVENT

END:VCALENDAR
