BEGIN:VCALENDAR
VERSION:2.0
PRODID:-//ChamberMaster//Event Calendar 2.0//EN
METHOD:PUBLISH
X-PUBLISHED-TTL:P3D
REFRESH-INTERVAL:P3D
CALSCALE:GREGORIAN
BEGIN:VEVENT
DTSTART:20250927T200000Z
DTEND:20250927T233000Z
X-MICROSOFT-CDO-ALLDAYEVENT:FALSE
SUMMARY:Missoula theater play
DESCRIPTION:There will be 2 performances. One at 3:00 and one at 5:30. Each performance will be about 1 1/2 hours long. Performed by the children of Jefferson school district K-5
X-ALT-DESC;FMTTYPE=text/html:There will be 2 performances. One at 3:00 and one at 5:30. Each performance will be about 1 1/2 hours long. Performed by the children of Jefferson school district K-5
LOCATION:JHS high school auditorium
UID:e.2671.9040
SEQUENCE:3
DTSTAMP:20260425T181656Z
URL:https://business.jeffersonchamberwi.com/events/details/missoula-theater-play-9040
END:VEVENT

END:VCALENDAR
