BEGIN:VCALENDAR
VERSION:2.0
PRODID:-//ChamberMaster//Event Calendar 2.0//EN
METHOD:PUBLISH
X-PUBLISHED-TTL:P3D
REFRESH-INTERVAL:P3D
CALSCALE:GREGORIAN
BEGIN:VEVENT
DTSTART:20260126T200000Z
DTEND:20260126T220000Z
X-MICROSOFT-CDO-ALLDAYEVENT:FALSE
SUMMARY:Monday Matinee at Jefferson Public Library
DESCRIPTION:Men in Black | 1997 | PG-13 | 1 hour 38 min\n\nA streetwise NYPD detective is recruited by a top-secret agency to monitor and police alien activity on Earth. Paired with a deadpan veteran agent\, the new recruit must help stop an intergalactic terrorist who has arrived on Earth in the stolen skin of a farmer to steal a miniature galaxy\, which threatens the existence of the entire planet. Based on a Marvel comic book series of the same name. Sci-Fi\, Action\, Comedy.\n\nStars: Tommy Lee Jones\, Will Smith\, Vincent D'Onofrio
X-ALT-DESC;FMTTYPE=text/html:<p><em>Men in Black</em>&nbsp\;| 1997 | PG-13 | 1 hour 38 min</p>\n\n<p>A streetwise NYPD detective is recruited by a top-secret agency to monitor and police alien activity on Earth. Paired with a deadpan veteran agent\, the new recruit must help stop an intergalactic terrorist who has arrived on Earth in the stolen skin of a farmer to steal a miniature galaxy\, which threatens the existence of the entire planet. Based on a Marvel comic book series of the same name. Sci-Fi\, Action\, Comedy.</p>\n\n<p>Stars: Tommy Lee Jones\, Will Smith\, Vincent D&#39\;Onofrio</p>\n
LOCATION:321 S. Main St. Jefferson\, WI 53549
UID:e.2671.9367
SEQUENCE:3
DTSTAMP:20260425T115637Z
URL:https://business.jeffersonchamberwi.com/events/details/monday-matinee-at-jefferson-public-library-01-26-2026-9367
END:VEVENT

END:VCALENDAR
