BEGIN:VCALENDAR
VERSION:2.0
PRODID:-//ChamberMaster//Event Calendar 2.0//EN
METHOD:PUBLISH
X-PUBLISHED-TTL:P3D
REFRESH-INTERVAL:P3D
CALSCALE:GREGORIAN
BEGIN:VEVENT
DTSTART:20260105T200000Z
DTEND:20260105T220000Z
X-MICROSOFT-CDO-ALLDAYEVENT:FALSE
SUMMARY:Monday Matinee at Jefferson Public Library
DESCRIPTION:Join us for a movie! Film begins at 2:00 PM.\n\nClue | 1985 | PG | 1 hour 34 min\n\nSix guests\, all being blackmailed by their host\, arrive at a remote mansion for a dinner party. When the host is murdered\, the guests and the butler must determine which of them committed the crime\, where\, and with what weapon as the body count rises. Based on the Parker Brothers board game of the same name. Comedy\, Mystery.\n\nStars: Eileen Brennan\, Tim Curry\, Madeline Kahn\, Christopher Lloyd\, Martin Mull\, Lesley Ann Warren
X-ALT-DESC;FMTTYPE=text/html:<p>Join us for a movie! Film begins at 2:00 PM.</p>\n\n<p><em>Clue</em>&nbsp\;| 1985 | PG | 1 hour 34 min</p>\n\n<p>Six guests\, all being blackmailed by their host\, arrive at a remote mansion for a dinner party. When the host is murdered\, the guests and the butler must determine which of them committed the crime\, where\, and with what weapon as the body count rises. Based on the Parker Brothers board game of the same name. Comedy\, Mystery.</p>\n\n<p>Stars: Eileen Brennan\, Tim Curry\, Madeline Kahn\, Christopher Lloyd\, Martin Mull\, Lesley Ann Warren</p>\n
LOCATION:321 S. Main St. Jefferson\, WI 53549
UID:e.2671.9322
SEQUENCE:3
DTSTAMP:20260425T115344Z
URL:https://business.jeffersonchamberwi.com/events/details/monday-matinee-at-jefferson-public-library-9322
END:VEVENT

END:VCALENDAR
