BEGIN:VCALENDAR
VERSION:2.0
PRODID:-//ChamberMaster//Event Calendar 2.0//EN
METHOD:PUBLISH
X-PUBLISHED-TTL:P3D
REFRESH-INTERVAL:P3D
CALSCALE:GREGORIAN
BEGIN:VEVENT
DTSTART:20251023T140000Z
DTEND:20251023T170000Z
X-MICROSOFT-CDO-ALLDAYEVENT:FALSE
SUMMARY:Money Moves: Teen Finance for Real Life | FREE
DESCRIPTION:Designed for students in grades 8 12 who want to build confidence with money and prepare for the future. In this class\, you'll learn how to budget and save\, manage a paycheck\, use checking accounts and debit cards\, avoid overdrafts\, and make smart decisions about credit\, loans. You'll also explore real-world scenarios like buying a car\, preparing for college costs\, and handling unexpected expenses all while developing habits that will set you up for lifelong financial success.
X-ALT-DESC;FMTTYPE=text/html:<span style="font-size:11.0pt">Designed for students in grades 8&ndash\;12 who want to build confidence with money and prepare for the future. In this class\, you&rsquo\;ll learn how to budget and save\, manage a paycheck\, use checking accounts and debit cards\, avoid overdrafts\, and make smart decisions about credit\, loans. You&rsquo\;ll also explore real-world scenarios like buying a car\, preparing for college costs\, and handling unexpected expenses&mdash\;all while developing habits that will set you up for lifelong financial success.</span>
LOCATION:1300 W Main Street Watertown\, WI 53098
UID:e.2671.9047
SEQUENCE:3
DTSTAMP:20260425T164658Z
URL:https://business.jeffersonchamberwi.com/events/details/money-moves-teen-finance-for-real-life-free-9047
END:VEVENT

END:VCALENDAR
