BEGIN:VCALENDAR
VERSION:2.0
PRODID:-//ChamberMaster//Event Calendar 2.0//EN
METHOD:PUBLISH
X-PUBLISHED-TTL:P3D
REFRESH-INTERVAL:P3D
CALSCALE:GREGORIAN
BEGIN:VEVENT
DTSTART:20251003T140000Z
DTEND:20251003T153000Z
X-MICROSOFT-CDO-ALLDAYEVENT:FALSE
SUMMARY:Mornings @ the Museum
DESCRIPTION:October 3rd: Exploring Autumn! The museum opens a half hour early for children and their families or teachers on the first Friday of the month during the school year. This time allows little ones to explore the exhibits at their own pace. Story time is at 9:15 and 10 a.m.\, and a craft activity is available throughout the morning. Drop in whenever it works best for your family between 9 and 10:30 a.m.! Upcoming Themes: Nov. 7: Celebrate Thanksgiving Dec. 5: All about Gingerbread
X-ALT-DESC;FMTTYPE=text/html:October 3rd: Exploring Autumn! The museum opens a half hour early for children and their families or teachers on the first Friday of the month during the school year. This time allows little ones to explore the exhibits at their own pace. Story time is at 9:15 and 10 a.m.\, and a craft activity is available throughout the morning. Drop in whenever it works best for your family between 9 and 10:30 a.m.! Upcoming Themes: Nov. 7: Celebrate Thanksgiving Dec. 5: All about Gingerbread
LOCATION:401 Whitewater Avenue Fort Atkinson WI 53538\,US
UID:e.2671.9061
SEQUENCE:3
DTSTAMP:20260425T180937Z
URL:https://business.jeffersonchamberwi.com/events/details/mornings-the-museum-9061
END:VEVENT

END:VCALENDAR
