BEGIN:VCALENDAR
VERSION:2.0
PRODID:-//ChamberMaster//Event Calendar 2.0//EN
METHOD:PUBLISH
X-PUBLISHED-TTL:P3D
REFRESH-INTERVAL:P3D
CALSCALE:GREGORIAN
BEGIN:VEVENT
DTSTART:20260119T200000Z
DTEND:20260119T220000Z
X-MICROSOFT-CDO-ALLDAYEVENT:FALSE
SUMMARY:Movie Monday at the Jefferson Public Library
DESCRIPTION:Join us for a movie! Film begins at 2:00 PM.\n\nSelma | 2014 | PG-13 | 2 hours 5 min\n\nChronicles the tumultuous period in 1965 when Dr. Martin Luther King Jr. led a dangerous and historic campaign to secure equal voting rights for Black Americans in the face of violent opposition. Despite facing brutal violence from law enforcement and white supremacists\, the movement gains national attention and pressure mounts on President Lyndon B. Johnson to sign the landmark Voting Rights Act of 1965. Historical\, Drama.\n\nStars: David Oyelowo\, Tom Wilkinson\, Carmen Ejogo\, Oprah Winfrey\, Common
X-ALT-DESC;FMTTYPE=text/html:<p>Join us for a movie! Film begins at 2:00 PM.</p>\n\n<p><em>Selma</em>&nbsp\;| 2014 | PG-13 | 2 hours 5 min</p>\n\n<p>Chronicles the tumultuous period in 1965 when Dr. Martin Luther King Jr. led a dangerous and historic campaign to secure equal voting rights for Black Americans in the face of violent opposition. Despite facing brutal violence from law enforcement and white supremacists\, the movement gains national attention and pressure mounts on President Lyndon B. Johnson to sign the landmark Voting Rights Act of 1965. Historical\, Drama.</p>\n\n<p>Stars: David Oyelowo\, Tom Wilkinson\, Carmen Ejogo\, Oprah Winfrey\, Common</p>\n
LOCATION:321 S. Main St. Jefferson\, WI 53549
UID:e.2671.9333
SEQUENCE:3
DTSTAMP:20260425T115906Z
URL:https://business.jeffersonchamberwi.com/events/details/movie-monday-at-the-jefferson-public-library-01-19-2026-9333
END:VEVENT

END:VCALENDAR
