BEGIN:VCALENDAR
VERSION:2.0
PRODID:-//ChamberMaster//Event Calendar 2.0//EN
METHOD:PUBLISH
X-PUBLISHED-TTL:P3D
REFRESH-INTERVAL:P3D
CALSCALE:GREGORIAN
BEGIN:VEVENT
DTSTART:20260504T190000Z
DTEND:20260504T210000Z
X-MICROSOFT-CDO-ALLDAYEVENT:FALSE
SUMMARY:Movie Monday at the Jefferson Public Library
DESCRIPTION:Ocean's Eleven | 2001 | PG-13 | 1 hour 56 min\n\nA charismatic criminal\, Danny Ocean\, assembles a team of eleven specialists to simultaneously rob three major Las Vegas casinos owned by his ex-wife's new boyfriend. The team uses high stakes\, sophisticated tech\, and careful planning to steal $150 million right from under the ruthless owner's eye. Heist\, Caper\, Crime\, Comedy\, Action.\n\nStars: George Clooney\, Brad Pitt\, Julia Roberts\, Bernie Mac\, Andy Garc a
X-ALT-DESC;FMTTYPE=text/html:<p><em>Ocean&#39\;s Eleven</em>&nbsp\;| 2001 | PG-13 | 1 hour 56 min</p>\n\n<p>A charismatic criminal\, Danny Ocean\, assembles a team of eleven specialists to simultaneously rob three major Las Vegas casinos owned by his ex-wife&#39\;s new boyfriend. The team uses high stakes\, sophisticated tech\, and careful planning to steal $150 million right from under the ruthless owner&#39\;s eye. Heist\, Caper\, Crime\, Comedy\, Action.</p>\n\n<p>Stars: George Clooney\, Brad Pitt\, Julia Roberts\, Bernie Mac\, Andy Garc&iacute\;a</p>\n
LOCATION:
UID:e.2671.9497
SEQUENCE:3
DTSTAMP:20260422T135722Z
URL:https://business.jeffersonchamberwi.com/events/details/movie-monday-at-the-jefferson-public-library-05-04-2026-9497
END:VEVENT

END:VCALENDAR
