BEGIN:VCALENDAR
VERSION:2.0
PRODID:-//ChamberMaster//Event Calendar 2.0//EN
METHOD:PUBLISH
X-PUBLISHED-TTL:P3D
REFRESH-INTERVAL:P3D
CALSCALE:GREGORIAN
BEGIN:VEVENT
DTSTART:20260511T223000Z
DTEND:20260512T003000Z
X-MICROSOFT-CDO-ALLDAYEVENT:FALSE
SUMMARY:Movie Monday at the Jefferson Public Library
DESCRIPTION:Romancing the Stone | 1984 | PG | 1 hour 46 min \n\nMousy romance novelist Joan Wilder travels to the Colombian jungle to deliver a treasure map and save her kidnapped sister. She teams up with a rugged fortune hunter named Jack Colton\, and the two must evade a corrupt military officer while hunting for a legendary emerald called El Coraz n. Along the way\, Joan finds the real-life adventure she's always written about\, ultimately rescuing her sister and falling for Jack. Adventure\, Romance. \n\nStars: Michael Douglas\, Kathleen Turner\, Danny DeVito
X-ALT-DESC;FMTTYPE=text/html:<p><em>Romancing the Stone</em>&nbsp\;| 1984 | PG | 1 hour 46 min&nbsp\;</p>\n\n<p>Mousy romance novelist&nbsp\;Joan Wilder&nbsp\;travels to the Colombian jungle to deliver a treasure map and save her kidnapped sister. She teams up with a rugged fortune hunter named&nbsp\;Jack Colton\, and the two must evade a corrupt military officer while hunting for a legendary emerald called&nbsp\;El Coraz&oacute\;n. Along the way\, Joan finds the real-life adventure she&rsquo\;s always written about\, ultimately rescuing her sister and falling for Jack. Adventure\, Romance.&nbsp\;</p>\n\n<p>Stars: Michael Douglas\, Kathleen Turner\, Danny DeVito</p>\n
LOCATION:
UID:e.2671.9498
SEQUENCE:3
DTSTAMP:20260422T135830Z
URL:https://business.jeffersonchamberwi.com/events/details/movie-monday-at-the-jefferson-public-library-05-11-2026-9498
END:VEVENT

END:VCALENDAR
