BEGIN:VCALENDAR
VERSION:2.0
PRODID:-//ChamberMaster//Event Calendar 2.0//EN
METHOD:PUBLISH
X-PUBLISHED-TTL:P3D
REFRESH-INTERVAL:P3D
CALSCALE:GREGORIAN
BEGIN:VEVENT
DTSTART:20260112T233000Z
DTEND:20260113T013000Z
X-MICROSOFT-CDO-ALLDAYEVENT:FALSE
SUMMARY:Movie Monday at the Jefferson Public Library
DESCRIPTION:Join us for movie night! Film begins at 5:30 PM.\n\nThe Princess Bride | 1987 | PG | 1 hour 38 min\n\nA classic tale of true love and high adventure. After a farm girl and her true love are separated\, she believes him to be dead and is reluctantly betrothed to a cruel prince. However\, her kidnapping by a band of outlaws and the pursuit of a mysterious masked stranger complicates things\, leading to encounters with fencing\, giants\, and a battle of wits. Based on the 1973 novel of the same name by William Goldman. Comedy\, Adventure\, Romance.\n\nStars: Cary Elwes\, Mandy Patinkin\, Robin Wright
X-ALT-DESC;FMTTYPE=text/html:<p>Join us for movie night! Film begins at 5:30 PM.</p>\n\n<p><em>The Princess Bride</em>&nbsp\;| 1987 | PG | 1 hour 38 min</p>\n\n<p>A classic tale of true love and high adventure. After a farm girl and her true love are separated\, she believes him to be dead and is reluctantly betrothed to a cruel prince. However\, her kidnapping by a band of outlaws and the pursuit of a mysterious masked stranger complicates things\, leading to encounters with fencing\, giants\, and a battle of wits. Based on the 1973 novel of the same name by William Goldman. Comedy\, Adventure\, Romance.</p>\n\n<p>Stars: Cary Elwes\, Mandy Patinkin\, Robin Wright</p>\n
LOCATION:321 S. Main St. Jefferson\, WI 53549
UID:e.2671.9326
SEQUENCE:3
DTSTAMP:20260425T115751Z
URL:https://business.jeffersonchamberwi.com/events/details/movie-monday-at-the-jefferson-public-library-9326
END:VEVENT

END:VCALENDAR
