BEGIN:VCALENDAR
VERSION:2.0
PRODID:-//ChamberMaster//Event Calendar 2.0//EN
METHOD:PUBLISH
X-PUBLISHED-TTL:P3D
REFRESH-INTERVAL:P3D
CALSCALE:GREGORIAN
BEGIN:VEVENT
DTSTART:20230129T000000Z
DTEND:20230129T033000Z
X-MICROSOFT-CDO-ALLDAYEVENT:FALSE
SUMMARY:Optimist Club of Jefferson Trivia Contest
DESCRIPTION:Optimist Annual Trivia contest. Doors open at 6 P.M Trivia Starts at 7 P.M. Food and refreshments available Prizes and Raffles Absolutely No Carry Ins Allowed Pre-Registration is recommended Space is limited All of our events help support the youth of Jefferson
X-ALT-DESC;FMTTYPE=text/html:Optimist Annual Trivia contest. Doors open at 6 P.M Trivia Starts at 7 P.M. Food and refreshments available Prizes and Raffles Absolutely No Carry Ins Allowed Pre-Registration is recommended Space is limited All of our events help support the youth of Jefferson
LOCATION:Jefferson County Fairgrounds-Activity center
UID:e.2671.5038
SEQUENCE:3
DTSTAMP:20260423T162200Z
URL:https://business.jeffersonchamberwi.com/events/details/optimist-club-of-jefferson-trivia-contest-01-28-2023-5038
END:VEVENT

END:VCALENDAR
