BEGIN:VCALENDAR
VERSION:2.0
PRODID:-//ChamberMaster//Event Calendar 2.0//EN
METHOD:PUBLISH
X-PUBLISHED-TTL:P3D
REFRESH-INTERVAL:P3D
CALSCALE:GREGORIAN
BEGIN:VEVENT
DTSTART:20240918T200000Z
DTEND:20240918T210000Z
X-MICROSOFT-CDO-ALLDAYEVENT:FALSE
SUMMARY:Our Great Lakes in the 21st Century
DESCRIPTION:In recognition of the Great Lakes\, Great Read Program in Wisconsin\, the Jefferson Public Library is hosting the UW-Madison Water Library for a discussion about our Great Lakes. Water Library Director Anne Moser will share the challenges and opportunities facing our Great Lakes today. Held at the Jefferson Public Library in the Library Meeting Room.
X-ALT-DESC;FMTTYPE=text/html:<p>In recognition of the Great Lakes\, Great Read Program in Wisconsin\, the Jefferson Public Library is hosting the UW-Madison Water Library for a discussion about our Great Lakes. Water Library Director Anne Moser will share the challenges&nbsp\;and opportunities facing our&nbsp\;Great Lakes today. Held at the Jefferson Public Library in the Library Meeting Room.</p>\n
LOCATION:
UID:e.2671.8443
SEQUENCE:3
DTSTAMP:20260423T204850Z
URL:https://business.jeffersonchamberwi.com/events/details/our-great-lakes-in-the-21st-century-8443
END:VEVENT

END:VCALENDAR
