BEGIN:VCALENDAR
VERSION:2.0
PRODID:-//ChamberMaster//Event Calendar 2.0//EN
METHOD:PUBLISH
X-PUBLISHED-TTL:P3D
REFRESH-INTERVAL:P3D
CALSCALE:GREGORIAN
BEGIN:VEVENT
DTSTART:20230110T000000Z
DTEND:20230110T010000Z
X-MICROSOFT-CDO-ALLDAYEVENT:FALSE
SUMMARY:Pages + Paws at the Jefferson Public Library
DESCRIPTION:Pet\, visit\, and read to therapy dogs. All ages.
X-ALT-DESC;FMTTYPE=text/html:Pet\, visit\, and read to therapy dogs. All ages.&nbsp\;
LOCATION:
UID:e.2671.5032
SEQUENCE:3
DTSTAMP:20260423T161746Z
URL:https://business.jeffersonchamberwi.com/events/details/pages-paws-at-the-jefferson-public-library-01-09-2023-5032
END:VEVENT

END:VCALENDAR
