BEGIN:VCALENDAR
VERSION:2.0
PRODID:-//ChamberMaster//Event Calendar 2.0//EN
METHOD:PUBLISH
X-PUBLISHED-TTL:P3D
REFRESH-INTERVAL:P3D
CALSCALE:GREGORIAN
BEGIN:VEVENT
DTSTART:20221010T230000Z
DTEND:20221011T000000Z
X-MICROSOFT-CDO-ALLDAYEVENT:FALSE
SUMMARY:Pages + Paws at the Jefferson Public Library
DESCRIPTION:Pet\, visit with and read to therapy dogs at the Jefferson Public Library. Available to all ages.
X-ALT-DESC;FMTTYPE=text/html:Pet\, visit with and read to therapy dogs at the Jefferson Public Library. Available to all ages.
LOCATION:Jefferson Public Library 321 S Main St Jefferson\, WI 53549
UID:e.2671.4880
SEQUENCE:3
DTSTAMP:20260423T202803Z
URL:https://business.jeffersonchamberwi.com/events/details/pages-paws-at-the-jefferson-public-library-4880
END:VEVENT

END:VCALENDAR
