BEGIN:VCALENDAR
VERSION:2.0
PRODID:-//ChamberMaster//Event Calendar 2.0//EN
METHOD:PUBLISH
X-PUBLISHED-TTL:P3D
REFRESH-INTERVAL:P3D
CALSCALE:GREGORIAN
BEGIN:VEVENT
DTSTART:20250921T180000Z
DTEND:20250921T220000Z
X-MICROSOFT-CDO-ALLDAYEVENT:FALSE
SUMMARY:Paws in the Sand
DESCRIPTION:Join us Sunday\, September 21st\, from 1-5 PM for a fun-filled afternoon at Paws in the Sand\, a free event to benefit the animals of the Humane Society of Jefferson County! Meet adoptable pets and enjoy live music\, raffles\, a silent auction\, and delicious food and drinks while soaking up the lakeside atmosphere at Sunset Bar & Grill.
X-ALT-DESC;FMTTYPE=text/html:Join us Sunday\, September 21st\, from 1-5 PM for a fun-filled afternoon at Paws in the Sand\, a free event to benefit the animals of the Humane Society of Jefferson County! Meet adoptable pets and enjoy live music\, raffles\, a silent auction\, and delicious food and drinks while soaking up the lakeside atmosphere at Sunset Bar &amp\; Grill.
LOCATION:Sunset Bar & Grill W7905 High Ridge Rd Fort Atkinson\, WI 53538 United
UID:e.2671.9057
SEQUENCE:3
DTSTAMP:20260425T194255Z
URL:https://business.jeffersonchamberwi.com/events/details/paws-in-the-sand-9057
END:VEVENT

END:VCALENDAR
