BEGIN:VCALENDAR
VERSION:2.0
PRODID:-//ChamberMaster//Event Calendar 2.0//EN
METHOD:PUBLISH
X-PUBLISHED-TTL:P3D
REFRESH-INTERVAL:P3D
CALSCALE:GREGORIAN
BEGIN:VEVENT
DTSTART:20260121T233000Z
DTEND:20260122T003000Z
X-MICROSOFT-CDO-ALLDAYEVENT:FALSE
SUMMARY:Pokémon Club at the Jefferson Public Library
DESCRIPTION:Meet to play and talk Pok mon with other trainers. Bring your own cards or use some provided by the Library.\n\nLocated in the Youth Department.
X-ALT-DESC;FMTTYPE=text/html:<p>Meet to play and talk Pok&eacute\;mon with other trainers. Bring your own cards or use some provided by the Library.</p>\n\n<p>Located in the Youth Department.&nbsp\;</p>\n
LOCATION:321 S. Main St. Jefferson\, WI 53549
UID:e.2671.9350
SEQUENCE:3
DTSTAMP:20260425T120754Z
URL:https://business.jeffersonchamberwi.com/events/details/pok&#233;mon-club-at-the-jefferson-public-library-01-21-2026-9350
END:VEVENT

END:VCALENDAR
