BEGIN:VCALENDAR
VERSION:2.0
PRODID:-//ChamberMaster//Event Calendar 2.0//EN
METHOD:PUBLISH
X-PUBLISHED-TTL:P3D
REFRESH-INTERVAL:P3D
CALSCALE:GREGORIAN
BEGIN:VEVENT
DTSTART:20241120T233000Z
DTEND:20241121T003000Z
X-MICROSOFT-CDO-ALLDAYEVENT:FALSE
SUMMARY:Pokémon Club @ the Jefferson Public Library
DESCRIPTION:Meet to play and talk Pok mon with other trainers at the Jefferson Public Library. Bring your own cards or use some provided by the Library.\n\nAll ages are welcome. Located in the Youth Department.
X-ALT-DESC;FMTTYPE=text/html:<p>Meet to play and talk Pok&eacute\;mon with other trainers at the Jefferson Public Library. Bring your own cards or use some provided by the Library.</p>\n\n<p>All ages are welcome. Located in the Youth Department.</p>\n
LOCATION:
UID:e.2671.8554
SEQUENCE:3
DTSTAMP:20260423T222714Z
URL:https://business.jeffersonchamberwi.com/events/details/pok&#233;mon-club-the-jefferson-public-library-11-20-2024-8554
END:VEVENT

END:VCALENDAR
