BEGIN:VCALENDAR
VERSION:2.0
PRODID:-//ChamberMaster//Event Calendar 2.0//EN
METHOD:PUBLISH
X-PUBLISHED-TTL:P3D
REFRESH-INTERVAL:P3D
CALSCALE:GREGORIAN
BEGIN:VEVENT
DTSTART:20200804T230000Z
DTEND:20200805T020000Z
X-MICROSOFT-CDO-ALLDAYEVENT:FALSE
SUMMARY:POSTPONED: National Night Out
DESCRIPTION:Stop and meet your local police officers\, firefighters\, EMS personnel and other public employees. Enjoy of night of family-friendly activities\, food and music. Riverfront Park\, 601 Wisconsin Dr.\, Jefferson\, 6pm.
X-ALT-DESC;FMTTYPE=text/html:<style type="text/css"><!--td {border: 1px solid #ccc\;}br {mso-data-placement:same-cell\;}-->\n</style>\n<span data-sheets-userformat="{&quot\;2&quot\;:897\,&quot\;3&quot\;:{&quot\;1&quot\;:1}\,&quot\;10&quot\;:0\,&quot\;11&quot\;:4\,&quot\;12&quot\;:0}" data-sheets-value="{&quot\;1&quot\;:2\,&quot\;2&quot\;:&quot\;Stop and meet your local police officers\, firefighters\, EMS personnel and other public employees. Enjoy of night of family-friendly activities\, food and music. Riverfront Park\, 601 Wisconsin Dr.\, Jefferson\, 6pm.&quot\;}" style="font-size: 10pt\; font-family: Arial\;">Stop and meet your local police officers\, firefighters\, EMS personnel and other public employees. Enjoy of night of family-friendly activities\, food and music. Riverfront Park\, 601 Wisconsin Dr.\, Jefferson\, 6pm.</span>
LOCATION:Jefferson County Fair Park 503 N Jackson Ave.\, Jefferson
UID:e.2671.3965
SEQUENCE:3
DTSTAMP:20260425T125052Z
URL:https://business.jeffersonchamberwi.com/events/details/postponed-national-night-out-3965
END:VEVENT

END:VCALENDAR
