BEGIN:VCALENDAR
VERSION:2.0
PRODID:-//ChamberMaster//Event Calendar 2.0//EN
METHOD:PUBLISH
X-PUBLISHED-TTL:P3D
REFRESH-INTERVAL:P3D
CALSCALE:GREGORIAN
BEGIN:VEVENT
DTSTART;VALUE=DATE:20200725
DTEND;VALUE=DATE:20200726
TRANSP:TRANSPARENT
X-MICROSOFT-CDO-ALLDAYEVENT:TRUE
SUMMARY:POSTPONED TO 2021: Riblicious Rib Fest
DESCRIPTION:Come down for delicious food\, great live music and fun for the whole family! Contestants can set up and start cooking at 7am. Serving/Judging will begin at 3pm sharp. Winners announced by 6pm. For entry information and ticket information\, send a Facebook message to Jefferson Lions. Rotary Park\, Jefferson
X-ALT-DESC;FMTTYPE=text/html:<style type="text/css"><!--td {border: 1px solid #ccc\;}br {mso-data-placement:same-cell\;}-->\n</style>\n<span data-sheets-userformat="{&quot\;2&quot\;:897\,&quot\;3&quot\;:{&quot\;1&quot\;:1}\,&quot\;10&quot\;:0\,&quot\;11&quot\;:4\,&quot\;12&quot\;:0}" data-sheets-value="{&quot\;1&quot\;:2\,&quot\;2&quot\;:&quot\;Come down for delicious food\, great live music and fun for the whole family!  Contestants can set up and start cooking at 7am.  Serving/Judging will begin at 3pm sharp.  Winners announced by 6pm.  For entry information and ticket information\, send a Facebook message to Jefferson Lions.  Rotary Park\, Jefferson &quot\;}" style="font-size: 10pt\; font-family: Arial\;">Come down for delicious food\, great live music and fun for the whole family! Contestants can set up and start cooking at 7am. Serving/Judging will begin at 3pm sharp. Winners announced by 6pm. For entry information and ticket information\, send a Facebook message to Jefferson Lions. Rotary Park\, Jefferson&nbsp\;</span>
LOCATION:Rotary Park\, Jefferson
UID:e.2671.3964
SEQUENCE:3
DTSTAMP:20260425T130656Z
URL:https://business.jeffersonchamberwi.com/events/details/postponed-to-2021-riblicious-rib-fest-3964
END:VEVENT

END:VCALENDAR
