BEGIN:VCALENDAR
VERSION:2.0
PRODID:-//ChamberMaster//Event Calendar 2.0//EN
METHOD:PUBLISH
X-PUBLISHED-TTL:P3D
REFRESH-INTERVAL:P3D
CALSCALE:GREGORIAN
BEGIN:VEVENT
DTSTART:20250604T190000Z
DTEND:20250604T200000Z
X-MICROSOFT-CDO-ALLDAYEVENT:FALSE
SUMMARY:Protecting Pollinators While Managing Pests
DESCRIPTION:Join us for an overview of integrating pollinator protection with pest management in your home landscape. Learn strategies for prioritizing pollinator protection and pest control in your own backyard. Presented by UW-Extension Horticulture Educator\, Julie Hill. Held in the Library Meeting Room.
X-ALT-DESC;FMTTYPE=text/html:Join us for an overview of integrating pollinator protection with pest management in your home landscape. Learn strategies for prioritizing pollinator protection and pest control in your own backyard. Presented by UW-Extension Horticulture Educator\, Julie Hill. Held in the Library Meeting Room.
LOCATION:
UID:e.2671.8944
SEQUENCE:3
DTSTAMP:20260425T235124Z
URL:https://business.jeffersonchamberwi.com/events/details/protecting-pollinators-while-managing-pests-8944
END:VEVENT

END:VCALENDAR
