BEGIN:VCALENDAR
VERSION:2.0
PRODID:-//ChamberMaster//Event Calendar 2.0//EN
METHOD:PUBLISH
X-PUBLISHED-TTL:P3D
REFRESH-INTERVAL:P3D
CALSCALE:GREGORIAN
BEGIN:VEVENT
DTSTART:20230307T190000Z
DTEND:20230307T200000Z
X-MICROSOFT-CDO-ALLDAYEVENT:FALSE
SUMMARY:Quartz Medicare Advantage Webinar
DESCRIPTION:Let us help you find a Quartz Medicare Advantage plan to meet your needs and budget.
X-ALT-DESC;FMTTYPE=text/html:Let us help you find a Quartz Medicare Advantage plan to meet your needs and budget.
LOCATION:Register in advance for this meeting: https://us02web.zoom.us/meeting/register/tZYqcuqupjMuGtNSEzAGSb950Czg2S92BJVs
UID:e.2671.6010
SEQUENCE:3
DTSTAMP:20260423T125938Z
URL:https://business.jeffersonchamberwi.com/events/details/quartz-medicare-advantage-webinar-03-07-2023-6010
END:VEVENT

END:VCALENDAR
