BEGIN:VCALENDAR
VERSION:2.0
PRODID:-//ChamberMaster//Event Calendar 2.0//EN
METHOD:PUBLISH
X-PUBLISHED-TTL:P3D
REFRESH-INTERVAL:P3D
CALSCALE:GREGORIAN
BEGIN:VEVENT
DTSTART:20220419T180000Z
DTEND:20220419T190000Z
X-MICROSOFT-CDO-ALLDAYEVENT:FALSE
SUMMARY:Quartz Medicare Advantage Webinar
DESCRIPTION:Online Presentation
X-ALT-DESC;FMTTYPE=text/html:Online Presentation
LOCATION:Virtual
UID:e.2671.4738
SEQUENCE:3
DTSTAMP:20260424T062453Z
URL:https://business.jeffersonchamberwi.com/events/details/quartz-medicare-advantage-webinar-4738
END:VEVENT

END:VCALENDAR
