BEGIN:VCALENDAR
VERSION:2.0
PRODID:-//ChamberMaster//Event Calendar 2.0//EN
METHOD:PUBLISH
X-PUBLISHED-TTL:P3D
REFRESH-INTERVAL:P3D
CALSCALE:GREGORIAN
BEGIN:VEVENT
DTSTART:20220712T180000Z
DTEND:20220712T190000Z
X-MICROSOFT-CDO-ALLDAYEVENT:FALSE
SUMMARY:Quartz Medicare Advantage Webinar (UW Network)
DESCRIPTION:When it comes to your health\, you deserve 5-Star treatment. Quartz Medicare Advantage (HMO) has received a 5-Star Rating more times than any other Medicare Advantage plan in the region. Best of all\, you can switch to one of their plans anytime. Contact Brian Rehm or Melissa Draeger\, your preferred Quartz Medicare Advantage licensed agents\, to learn more. Or register for an upcoming class. https://us02web.zoom.us/meeting/register/tZErceuqrT8jGNfruisMRhdcl30NnWli-kRt Free Admission Intended for use in the United States. We are not connected with\, nor endorsed by\, the U.S. Government or the Federal Medicare Program. This is a solicitation of insurance. An agent may contact you
X-ALT-DESC;FMTTYPE=text/html:When it comes to your health\, you deserve 5-Star treatment. Quartz Medicare Advantage (HMO) has received a 5-Star Rating more times than any other Medicare Advantage plan in the region. Best of all\, you can switch to one of their plans anytime. Contact Brian Rehm or Melissa Draeger\, your preferred Quartz Medicare Advantage licensed agents\, to learn more. Or register for an upcoming class. https://us02web.zoom.us/meeting/register/tZErceuqrT8jGNfruisMRhdcl30NnWli-kRt Free Admission Intended for use in the United States. We are not connected with\, nor endorsed by\, the U.S. Government or the Federal Medicare Program. This is a solicitation of insurance. An agent may contact you
LOCATION:Online https://us02web.zoom.us/meeting/register/tZErceuqrT8jGNfruisMRhdcl30NnWli-kRt
UID:e.2671.4790
SEQUENCE:3
DTSTAMP:20260424T022952Z
URL:https://business.jeffersonchamberwi.com/events/details/quartz-medicare-advantage-webinar-uw-network-4790
END:VEVENT

END:VCALENDAR
