BEGIN:VCALENDAR
VERSION:2.0
PRODID:-//ChamberMaster//Event Calendar 2.0//EN
METHOD:PUBLISH
X-PUBLISHED-TTL:P3D
REFRESH-INTERVAL:P3D
CALSCALE:GREGORIAN
BEGIN:VEVENT
DTSTART:20251120T000000Z
DTEND:20251120T020000Z
X-MICROSOFT-CDO-ALLDAYEVENT:FALSE
SUMMARY:Rainbow Community Care is partnering with United Way for BINGO night!
DESCRIPTION:BINGO night is back!\n\n\n\nUnited Way of Jefferson and N. Walworth Counties is joining up for a fun evening of BINGO with Rainbow Community Care!\n\n\n\nTuesday\, November 19th at 6 pm\n\nMcGrath's - 1245 Whitewater Ave\, Fort Atkinson\n\nProgressive Pot TBD!\n\n\n\nBring a non-perishable or canned good to be entered into our special raffle!\n\n\n\nThroughout November\, we're also collecting new\, unwrapped toys for families in need this holiday season.\n\n\n\nCome out\, have some fun\, and support your community!
X-ALT-DESC;FMTTYPE=text/html:BINGO night is back!<br />\n<br />\nUnited Way of Jefferson and N. Walworth Counties is joining up for a fun evening of BINGO with Rainbow Community Care!<br />\n<br />\nTuesday\, November 19th at 6 pm<br />\nMcGrath&rsquo\;s - 1245 Whitewater Ave\, Fort Atkinson<br />\nProgressive Pot TBD!<br />\n<br />\nBring a non-perishable or canned good to be entered into our special raffle!<br />\n<br />\nThroughout November\, we&rsquo\;re also collecting new\, unwrapped toys for families in need this holiday season.<br />\n<br />\nCome out\, have some fun\, and support your community!
LOCATION:McGrath's 1245 Whitewater Ave\, Fort Atkinson\, WI 53538
UID:e.2671.9117
SEQUENCE:3
DTSTAMP:20260425T151239Z
URL:https://business.jeffersonchamberwi.com/events/details/rainbow-community-care-is-partnering-with-united-way-for-bingo-night-9117
END:VEVENT

END:VCALENDAR
