BEGIN:VCALENDAR
VERSION:2.0
PRODID:-//ChamberMaster//Event Calendar 2.0//EN
METHOD:PUBLISH
X-PUBLISHED-TTL:P3D
REFRESH-INTERVAL:P3D
CALSCALE:GREGORIAN
BEGIN:VEVENT
DTSTART:20260506T163000Z
DTEND:20260506T210000Z
X-MICROSOFT-CDO-ALLDAYEVENT:FALSE
SUMMARY:Rainbow Community Care is partnering with Versiti to host a community blood drive - and we need YOU!
DESCRIPTION:Save the date\, save lives!\n\n\n\n \n\n\n\nRainbow Community Care is partnering with Versiti to host a community blood drive - and we need YOU!\n\n\n\n \n\n\n\nWednesday\, May 6th\n\n\n\n11:30 a.m.   4:00 p.m.\n\n\n\nRainbow Hospice Care Inpatient Center   Community Room\n\n\n\n1225 Remmel Dr.\, Johnson Creek\n\n\n\n \n\n\n\nEvery donation can make a life-saving difference for someone in need. \n\n\n\n \n\n\n\nFollow the link below or scan the QR code with your smartphone to sign up and secure your spot today!\n\n\n\nhttps://donateblood.versiti.org/donor/schedules/drive_schedule/11637883\n\n\n\n \n\n\n\nLet's come together as a community and make an impact - one donation at a time.\n\n\n\n \n\n\n\nLet's come together as a community and make an impact - one donation at a time.
X-ALT-DESC;FMTTYPE=text/html:<div>\n<div><span style="font-family:inherit">Save the date\, save lives!</span></div>\n</div>\n\n<div>\n<div>&nbsp\;</div>\n</div>\n\n<div>\n<div><span style="font-family:inherit">Rainbow Community Care is partnering with Versiti to host a community blood drive - and we need YOU!</span></div>\n</div>\n\n<div>\n<div>&nbsp\;</div>\n</div>\n\n<div>\n<div><span style="font-family:inherit">Wednesday\, May 6th</span></div>\n</div>\n\n<div>\n<div><span style="font-family:inherit">11:30 a.m. &ndash\; 4:00 p.m.</span></div>\n</div>\n\n<div>\n<div><span style="font-family:inherit">Rainbow Hospice Care Inpatient Center &ndash\; Community Room</span></div>\n</div>\n\n<div>\n<div><span style="font-family:inherit">1225 Remmel Dr.\, Johnson Creek</span></div>\n</div>\n\n<div>\n<div>&nbsp\;</div>\n</div>\n\n<div>\n<div><span style="font-family:inherit">Every donation can make a life-saving difference for someone in need. </span></div>\n</div>\n\n<div>\n<div>&nbsp\;</div>\n</div>\n\n<div>\n<div><span style="font-family:inherit">Follow the link below or scan the QR code with your smartphone to sign up and secure your spot today!</span></div>\n</div>\n\n<div>\n<div><span style="font-family:inherit">https://donateblood.versiti.org/donor/schedules/drive_schedule/11637883</span></div>\n</div>\n\n<div>\n<div>&nbsp\;</div>\n</div>\n\n<div>\n<div><span style="font-family:inherit">Let&rsquo\;s come together as a community and make an impact - one donation at a time.</span></div>\n</div>\n\n<div>\n<div>&nbsp\;</div>\n</div>\n\n<div>\n<div><span style="font-family:inherit">Let&rsquo\;s come together as a community and make an impact - one donation at a time. </span></div>\n</div>\n
LOCATION:Rainbow Hospice Care Inpatient Center - Community Room 1225 Remmel Dr\, Johnson Creek\, WI Please park in the lower-level parking lot and enter through the door to the right of the patio.
UID:e.2671.9517
SEQUENCE:3
DTSTAMP:20260425T143403Z
URL:https://business.jeffersonchamberwi.com/events/details/rainbow-community-care-is-partnering-with-versiti-to-host-a-community-blood-drive-and-we-need-you-9517
END:VEVENT

END:VCALENDAR
